Package: packFinder Version: 1.16.0 Command: rm -rf packFinder.buildbin-libdir && mkdir packFinder.buildbin-libdir && /Users/biocbuild/BBS/utils/build-universal.sh packFinder_1.16.0.tar.gz /Library/Frameworks/R.framework/Resources/bin/R packFinder.buildbin-libdir StartedAt: 2024-10-18 19:52:40 -0400 (Fri, 18 Oct 2024) EndedAt: 2024-10-18 19:52:45 -0400 (Fri, 18 Oct 2024) EllapsedTime: 4.6 seconds RetCode: 0 Status: OK PackageFile: packFinder_1.16.0.tgz PackageFileSize: 1.161 MiB