Package: pRolocGUI Version: 2.14.0 Command: E:\biocbuild\bbs-3.19-bioc\R\bin\R.exe CMD check --no-multiarch --install=check:pRolocGUI.install-out.txt --library=E:\biocbuild\bbs-3.19-bioc\R\library --no-vignettes --timings pRolocGUI_2.14.0.tar.gz StartedAt: 2024-10-17 04:38:21 -0400 (Thu, 17 Oct 2024) EndedAt: 2024-10-17 04:44:48 -0400 (Thu, 17 Oct 2024) EllapsedTime: 387.3 seconds RetCode: 0 Status: OK CheckDir: pRolocGUI.Rcheck Warnings: 0