Package: pRolocGUI Version: 2.14.0 Command: chmod a+r pRolocGUI -R && E:\biocbuild\bbs-3.19-bioc\R\bin\R.exe CMD build --keep-empty-dirs --no-resave-data pRolocGUI StartedAt: 2024-10-16 21:14:19 -0400 (Wed, 16 Oct 2024) EndedAt: 2024-10-16 21:15:46 -0400 (Wed, 16 Oct 2024) EllapsedTime: 87.3 seconds RetCode: 0 Status: OK PackageFile: pRolocGUI_2.14.0.tar.gz PackageFileSize: 2.991 MiB