Package: pRolocGUI Version: 2.14.0 Command: F:\biocbuild\bbs-3.19-bioc\R\bin\R.exe CMD INSTALL pRolocGUI StartedAt: 2024-06-26 16:42:32 -0400 (Wed, 26 Jun 2024) EndedAt: 2024-06-26 16:43:40 -0400 (Wed, 26 Jun 2024) EllapsedTime: 67.7 seconds RetCode: 0 Status: OK