Package: pRolocGUI Version: 2.14.0 Command: /home/biocbuild/bbs-3.19-bioc/R/bin/R CMD INSTALL pRolocGUI StartedAt: 2024-10-16 16:37:17 -0400 (Wed, 16 Oct 2024) EndedAt: 2024-10-16 16:38:05 -0400 (Wed, 16 Oct 2024) EllapsedTime: 47.6 seconds RetCode: 0 Status: OK