Package: pRolocGUI Version: 2.14.0 Command: /home/biocbuild/bbs-3.19-bioc/R/bin/R CMD build --keep-empty-dirs --no-resave-data pRolocGUI StartedAt: 2024-10-16 20:13:03 -0400 (Wed, 16 Oct 2024) EndedAt: 2024-10-16 20:14:13 -0400 (Wed, 16 Oct 2024) EllapsedTime: 69.1 seconds RetCode: 0 Status: OK PackageFile: pRolocGUI_2.14.0.tar.gz PackageFileSize: 2.991 MiB