Package: pRolocGUI Version: 2.14.0 Command: /Library/Frameworks/R.framework/Resources/bin/R CMD build --keep-empty-dirs --no-resave-data pRolocGUI StartedAt: 2024-10-16 22:14:17 -0400 (Wed, 16 Oct 2024) EndedAt: 2024-10-16 22:17:11 -0400 (Wed, 16 Oct 2024) EllapsedTime: 173.3 seconds RetCode: 0 Status: OK PackageFile: pRolocGUI_2.14.0.tar.gz PackageFileSize: 2.991 MiB