Package: pRolocGUI Version: 2.14.0 Command: /Library/Frameworks/R.framework/Resources/bin/R CMD check --install=check:pRolocGUI.install-out.txt --library=/Library/Frameworks/R.framework/Resources/library --no-vignettes --timings pRolocGUI_2.14.0.tar.gz StartedAt: 2024-06-09 22:20:21 -0400 (Sun, 09 Jun 2024) EndedAt: 2024-06-09 22:26:27 -0400 (Sun, 09 Jun 2024) EllapsedTime: 366.2 seconds RetCode: 0 Status: OK CheckDir: pRolocGUI.Rcheck Warnings: 0