Package: pRolocGUI Version: 2.14.0 Command: /Library/Frameworks/R.framework/Resources/bin/R CMD build --keep-empty-dirs --no-resave-data pRolocGUI StartedAt: 2024-06-09 17:47:08 -0400 (Sun, 09 Jun 2024) EndedAt: 2024-06-09 17:48:20 -0400 (Sun, 09 Jun 2024) EllapsedTime: 72.0 seconds RetCode: 0 Status: OK PackageFile: pRolocGUI_2.14.0.tar.gz PackageFileSize: 2.991 MiB