Package: pRolocGUI Version: 2.14.0 Command: /Library/Frameworks/R.framework/Resources/bin/R CMD INSTALL pRolocGUI StartedAt: 2024-06-09 17:14:29 -0400 (Sun, 09 Jun 2024) EndedAt: 2024-06-09 17:15:42 -0400 (Sun, 09 Jun 2024) EllapsedTime: 72.7 seconds RetCode: 0 Status: OK