Package: pRolocGUI Version: 2.14.0 Command: rm -rf pRolocGUI.buildbin-libdir && mkdir pRolocGUI.buildbin-libdir && /Users/biocbuild/BBS/utils/build-universal.sh pRolocGUI_2.14.0.tar.gz /Library/Frameworks/R.framework/Resources/bin/R pRolocGUI.buildbin-libdir StartedAt: 2024-06-11 12:36:27 -0400 (Tue, 11 Jun 2024) EndedAt: 2024-06-11 12:38:08 -0400 (Tue, 11 Jun 2024) EllapsedTime: 100.2 seconds RetCode: 0 Status: OK PackageFile: pRolocGUI_2.14.0.tgz PackageFileSize: 1.775 MiB