Package: pRolocGUI Version: 2.14.0 Command: /Library/Frameworks/R.framework/Resources/bin/R CMD check --install=check:pRolocGUI.install-out.txt --library=/Library/Frameworks/R.framework/Resources/library --no-vignettes --timings pRolocGUI_2.14.0.tar.gz StartedAt: 2024-10-18 08:04:13 -0400 (Fri, 18 Oct 2024) EndedAt: 2024-10-18 08:11:07 -0400 (Fri, 18 Oct 2024) EllapsedTime: 413.4 seconds RetCode: 0 Status: OK CheckDir: pRolocGUI.Rcheck Warnings: 0