Package: pRolocGUI Version: 2.14.0 Command: rm -rf pRolocGUI.buildbin-libdir && mkdir pRolocGUI.buildbin-libdir && /Users/biocbuild/BBS/utils/build-universal.sh pRolocGUI_2.14.0.tar.gz /Library/Frameworks/R.framework/Resources/bin/R pRolocGUI.buildbin-libdir StartedAt: 2024-10-18 20:02:19 -0400 (Fri, 18 Oct 2024) EndedAt: 2024-10-18 20:03:32 -0400 (Fri, 18 Oct 2024) EllapsedTime: 72.8 seconds RetCode: 0 Status: OK PackageFile: pRolocGUI_2.14.0.tgz PackageFileSize: 1.774 MiB