Package: pRoloc Version: 1.44.1 Command: F:\biocbuild\bbs-3.19-bioc\R\bin\R.exe CMD check --no-multiarch --install=check:pRoloc.install-out.txt --library=F:\biocbuild\bbs-3.19-bioc\R\library --no-vignettes --timings pRoloc_1.44.1.tar.gz StartedAt: 2024-06-27 04:55:13 -0400 (Thu, 27 Jun 2024) EndedAt: 2024-06-27 05:07:16 -0400 (Thu, 27 Jun 2024) EllapsedTime: 722.6 seconds RetCode: 0 Status: OK CheckDir: pRoloc.Rcheck Warnings: 0