Package: pRoloc Version: 1.44.1 Command: chmod a+r pRoloc -R && F:\biocbuild\bbs-3.19-bioc\R\bin\R.exe CMD build --keep-empty-dirs --no-resave-data pRoloc StartedAt: 2024-06-26 21:06:52 -0400 (Wed, 26 Jun 2024) EndedAt: 2024-06-26 21:17:15 -0400 (Wed, 26 Jun 2024) EllapsedTime: 623.3 seconds RetCode: 0 Status: OK PackageFile: pRoloc_1.44.1.tar.gz PackageFileSize: 6.21 MiB