Package: pRoloc Version: 1.44.1 Command: /home/biocbuild/bbs-3.19-bioc/R/bin/R CMD INSTALL pRoloc StartedAt: 2024-10-16 16:35:59 -0400 (Wed, 16 Oct 2024) EndedAt: 2024-10-16 16:37:13 -0400 (Wed, 16 Oct 2024) EllapsedTime: 74.3 seconds RetCode: 0 Status: OK