Package: pRoloc Version: 1.44.1 Command: /Library/Frameworks/R.framework/Resources/bin/R CMD build --keep-empty-dirs --no-resave-data pRoloc StartedAt: 2024-10-16 22:14:16 -0400 (Wed, 16 Oct 2024) EndedAt: 2024-10-16 22:26:21 -0400 (Wed, 16 Oct 2024) EllapsedTime: 724.9 seconds RetCode: 0 Status: OK PackageFile: pRoloc_1.44.1.tar.gz PackageFileSize: 10.5 MiB