Package: pRoloc Version: 1.44.0 Command: /Library/Frameworks/R.framework/Resources/bin/R CMD build --keep-empty-dirs --no-resave-data pRoloc StartedAt: 2024-06-09 17:47:00 -0400 (Sun, 09 Jun 2024) EndedAt: 2024-06-09 17:51:46 -0400 (Sun, 09 Jun 2024) EllapsedTime: 285.8 seconds RetCode: 0 Status: OK PackageFile: pRoloc_1.44.0.tar.gz PackageFileSize: 10.49 MiB