Package: pRoloc Version: 1.44.0 Command: rm -rf pRoloc.buildbin-libdir && mkdir pRoloc.buildbin-libdir && /Users/biocbuild/BBS/utils/build-universal.sh pRoloc_1.44.0.tar.gz /Library/Frameworks/R.framework/Resources/bin/R pRoloc.buildbin-libdir StartedAt: 2024-06-10 00:33:02 -0400 (Mon, 10 Jun 2024) EndedAt: 2024-06-10 00:34:51 -0400 (Mon, 10 Jun 2024) EllapsedTime: 109.4 seconds RetCode: 0 Status: OK PackageFile: pRoloc_1.44.0.tgz PackageFileSize: 10.24 MiB