Package: pRoloc Version: 1.44.0 Command: /Library/Frameworks/R.framework/Resources/bin/R CMD check --install=check:pRoloc.install-out.txt --library=/Library/Frameworks/R.framework/Resources/library --no-vignettes --timings pRoloc_1.44.0.tar.gz StartedAt: 2024-06-11 01:49:00 -0400 (Tue, 11 Jun 2024) EndedAt: 2024-06-11 02:05:26 -0400 (Tue, 11 Jun 2024) EllapsedTime: 986.7 seconds RetCode: 0 Status: OK CheckDir: pRoloc.Rcheck Warnings: 0