Package: pRoloc Version: 1.44.1 Command: /Library/Frameworks/R.framework/Resources/bin/R CMD build --keep-empty-dirs --no-resave-data pRoloc StartedAt: 2024-10-17 06:44:34 -0400 (Thu, 17 Oct 2024) EndedAt: 2024-10-17 06:50:06 -0400 (Thu, 17 Oct 2024) EllapsedTime: 332.8 seconds RetCode: 0 Status: OK PackageFile: pRoloc_1.44.1.tar.gz PackageFileSize: 10.51 MiB