Package: pRoloc Version: 1.44.1 Command: rm -rf pRoloc.buildbin-libdir && mkdir pRoloc.buildbin-libdir && /Users/biocbuild/BBS/utils/build-universal.sh pRoloc_1.44.1.tar.gz /Library/Frameworks/R.framework/Resources/bin/R pRoloc.buildbin-libdir StartedAt: 2024-10-18 20:02:19 -0400 (Fri, 18 Oct 2024) EndedAt: 2024-10-18 20:04:08 -0400 (Fri, 18 Oct 2024) EllapsedTime: 109.4 seconds RetCode: 0 Status: OK PackageFile: pRoloc_1.44.1.tgz PackageFileSize: 10.26 MiB