Package: orthos Version: 1.2.0 Command: E:\biocbuild\bbs-3.19-bioc\R\bin\R.exe CMD INSTALL orthos StartedAt: 2024-10-16 17:19:17 -0400 (Wed, 16 Oct 2024) EndedAt: 2024-10-16 17:19:55 -0400 (Wed, 16 Oct 2024) EllapsedTime: 37.9 seconds RetCode: 0 Status: OK