Package: orthos Version: 1.2.0 Command: chmod a+r orthos -R && E:\biocbuild\bbs-3.19-bioc\R\bin\R.exe CMD build --keep-empty-dirs --no-resave-data orthos StartedAt: 2024-10-16 20:51:46 -0400 (Wed, 16 Oct 2024) EndedAt: 2024-10-16 21:08:32 -0400 (Wed, 16 Oct 2024) EllapsedTime: 1006.5 seconds RetCode: 0 Status: OK PackageFile: orthos_1.2.0.tar.gz PackageFileSize: 4.761 MiB