Package: orthos Version: 1.2.0 Command: /home/biocbuild/bbs-3.19-bioc/R/bin/R CMD INSTALL orthos StartedAt: 2024-10-16 16:44:46 -0400 (Wed, 16 Oct 2024) EndedAt: 2024-10-16 16:45:08 -0400 (Wed, 16 Oct 2024) EllapsedTime: 22.5 seconds RetCode: 0 Status: OK