Package: orthos Version: 1.2.0 Command: /Library/Frameworks/R.framework/Resources/bin/R CMD INSTALL orthos StartedAt: 2024-10-16 16:47:01 -0400 (Wed, 16 Oct 2024) EndedAt: 2024-10-16 16:47:55 -0400 (Wed, 16 Oct 2024) EllapsedTime: 54.0 seconds RetCode: 0 Status: OK