Package: orthos Version: 1.2.0 Command: rm -rf orthos.buildbin-libdir && mkdir orthos.buildbin-libdir && /Users/biocbuild/BBS/utils/build-universal.sh orthos_1.2.0.tar.gz /Library/Frameworks/R.framework/Resources/bin/R orthos.buildbin-libdir StartedAt: 2024-10-17 16:47:25 -0400 (Thu, 17 Oct 2024) EndedAt: 2024-10-17 16:48:29 -0400 (Thu, 17 Oct 2024) EllapsedTime: 63.4 seconds RetCode: 0 Status: OK PackageFile: orthos_1.2.0.tgz PackageFileSize: 2.834 MiB