Package: orthogene Version: 1.10.0 Command: chmod a+r orthogene -R && E:\biocbuild\bbs-3.19-bioc\R\bin\R.exe CMD build --keep-empty-dirs --no-resave-data orthogene StartedAt: 2024-10-16 20:51:41 -0400 (Wed, 16 Oct 2024) EndedAt: 2024-10-16 20:53:03 -0400 (Wed, 16 Oct 2024) EllapsedTime: 81.4 seconds RetCode: 0 Status: OK PackageFile: orthogene_1.10.0.tar.gz PackageFileSize: 2.473 MiB