Package: orthogene Version: 1.10.0 Command: /Library/Frameworks/R.framework/Resources/bin/R CMD build --keep-empty-dirs --no-resave-data orthogene StartedAt: 2024-10-16 21:47:54 -0400 (Wed, 16 Oct 2024) EndedAt: 2024-10-16 21:49:00 -0400 (Wed, 16 Oct 2024) EllapsedTime: 66.1 seconds RetCode: 0 Status: OK PackageFile: orthogene_1.10.0.tar.gz PackageFileSize: 2.641 MiB