Package: orthogene Version: 1.10.0 Command: /Library/Frameworks/R.framework/Resources/bin/R CMD build --keep-empty-dirs --no-resave-data orthogene StartedAt: 2024-10-17 06:00:49 -0400 (Thu, 17 Oct 2024) EndedAt: 2024-10-17 06:01:25 -0400 (Thu, 17 Oct 2024) EllapsedTime: 36.0 seconds RetCode: 0 Status: OK PackageFile: orthogene_1.10.0.tar.gz PackageFileSize: 2.641 MiB