Package: optimalFlow Version: 1.16.0 Command: E:\biocbuild\bbs-3.19-bioc\R\bin\R.exe CMD check --no-multiarch --install=check:optimalFlow.install-out.txt --library=E:\biocbuild\bbs-3.19-bioc\R\library --no-vignettes --timings optimalFlow_1.16.0.tar.gz StartedAt: 2024-10-17 04:10:01 -0400 (Thu, 17 Oct 2024) EndedAt: 2024-10-17 04:18:02 -0400 (Thu, 17 Oct 2024) EllapsedTime: 480.9 seconds RetCode: 0 Status: OK CheckDir: optimalFlow.Rcheck Warnings: 0