Package: optimalFlow Version: 1.16.0 Command: /home/biocbuild/bbs-3.19-bioc/R/bin/R CMD check --install=check:optimalFlow.install-out.txt --library=/home/biocbuild/bbs-3.19-bioc/R/site-library --timings optimalFlow_1.16.0.tar.gz StartedAt: 2024-10-17 03:19:02 -0400 (Thu, 17 Oct 2024) EndedAt: 2024-10-17 03:34:03 -0400 (Thu, 17 Oct 2024) EllapsedTime: 900.3 seconds RetCode: 0 Status: OK CheckDir: optimalFlow.Rcheck Warnings: 0