Package: optimalFlow Version: 1.16.0 Command: /Library/Frameworks/R.framework/Resources/bin/R CMD build --keep-empty-dirs --no-resave-data optimalFlow StartedAt: 2024-06-10 02:01:34 -0400 (Mon, 10 Jun 2024) EndedAt: 2024-06-10 02:41:34 -0400 (Mon, 10 Jun 2024) EllapsedTime: 2400.3 seconds RetCode: None Status: TIMEOUT PackageFile: None PackageFileSize: NA