Package: optimalFlow Version: 1.16.0 Command: /Library/Frameworks/R.framework/Resources/bin/R CMD INSTALL optimalFlow StartedAt: 2024-10-16 17:13:44 -0400 (Wed, 16 Oct 2024) EndedAt: 2024-10-16 17:14:05 -0400 (Wed, 16 Oct 2024) EllapsedTime: 20.4 seconds RetCode: 0 Status: OK