Package: optimalFlow Version: 1.16.0 Maintainer: Hristo Inouzhe MaintainerEmail: hristo.inouzhe at gmail.com git_url: https://git.bioconductor.org/packages/optimalFlow git_branch: RELEASE_3_19 git_last_commit: 2d9a6a2 git_last_commit_date: 2024-04-30 11:24:00 -0400 (Tue, 30 Apr 2024)