Package: oppti Version: 1.18.0 Command: rm -rf oppti.buildbin-libdir && mkdir oppti.buildbin-libdir && E:\biocbuild\bbs-3.19-bioc\R\bin\R.exe CMD INSTALL --build --library=oppti.buildbin-libdir oppti_1.18.0.tar.gz StartedAt: 2024-10-17 08:17:58 -0400 (Thu, 17 Oct 2024) EndedAt: 2024-10-17 08:18:15 -0400 (Thu, 17 Oct 2024) EllapsedTime: 16.1 seconds RetCode: 0 Status: OK PackageFile: oppti_1.18.0.zip PackageFileSize: 105.4 KiB