Package: oppti Version: 1.18.0 Command: rm -rf oppti.buildbin-libdir && mkdir oppti.buildbin-libdir && F:\biocbuild\bbs-3.19-bioc\R\bin\R.exe CMD INSTALL --build --library=oppti.buildbin-libdir oppti_1.18.0.tar.gz StartedAt: 2024-06-27 08:37:48 -0400 (Thu, 27 Jun 2024) EndedAt: 2024-06-27 08:38:03 -0400 (Thu, 27 Jun 2024) EllapsedTime: 14.7 seconds RetCode: 0 Status: OK PackageFile: oppti_1.18.0.zip PackageFileSize: 105.4 KiB