Package: oppti Version: 1.18.0 Command: /home/biocbuild/bbs-3.19-bioc/R/bin/R CMD build --keep-empty-dirs --no-resave-data oppti StartedAt: 2024-10-16 19:55:30 -0400 (Wed, 16 Oct 2024) EndedAt: 2024-10-16 19:56:04 -0400 (Wed, 16 Oct 2024) EllapsedTime: 34.1 seconds RetCode: 0 Status: OK PackageFile: oppti_1.18.0.tar.gz PackageFileSize: 74.4 KiB