Package: oppti Version: 1.18.0 Command: /Library/Frameworks/R.framework/Resources/bin/R CMD build --keep-empty-dirs --no-resave-data oppti StartedAt: 2024-10-16 21:46:08 -0400 (Wed, 16 Oct 2024) EndedAt: 2024-10-16 21:47:16 -0400 (Wed, 16 Oct 2024) EllapsedTime: 67.6 seconds RetCode: 0 Status: OK PackageFile: oppti_1.18.0.tar.gz PackageFileSize: 74.41 KiB