Package: oppti Version: 1.18.0 Command: /Library/Frameworks/R.framework/Resources/bin/R CMD build --keep-empty-dirs --no-resave-data oppti StartedAt: 2024-10-17 05:55:40 -0400 (Thu, 17 Oct 2024) EndedAt: 2024-10-17 05:56:09 -0400 (Thu, 17 Oct 2024) EllapsedTime: 28.5 seconds RetCode: 0 Status: OK PackageFile: oppti_1.18.0.tar.gz PackageFileSize: 74.41 KiB