Package: oppti Version: 1.18.0 Maintainer: Abdulkadir Elmas MaintainerEmail: abdulkadir.elmas at mssm.edu git_url: https://git.bioconductor.org/packages/oppti git_branch: RELEASE_3_19 git_last_commit: 0e73c3d git_last_commit_date: 2024-04-30 11:18:50 -0400 (Tue, 30 Apr 2024)