Package: oppar Version: 1.32.0 Command: /home/biocbuild/bbs-3.19-bioc/R/bin/R CMD INSTALL oppar StartedAt: 2024-10-16 16:38:04 -0400 (Wed, 16 Oct 2024) EndedAt: 2024-10-16 16:38:40 -0400 (Wed, 16 Oct 2024) EllapsedTime: 36.0 seconds RetCode: 0 Status: OK