Package: oppar Version: 1.32.0 Command: /Library/Frameworks/R.framework/Resources/bin/R CMD build --keep-empty-dirs --no-resave-data oppar StartedAt: 2024-10-16 21:46:05 -0400 (Wed, 16 Oct 2024) EndedAt: 2024-10-16 21:49:01 -0400 (Wed, 16 Oct 2024) EllapsedTime: 176.2 seconds RetCode: 0 Status: OK PackageFile: oppar_1.32.0.tar.gz PackageFileSize: 3.399 MiB