Package: oppar Version: 1.32.0 Command: /Library/Frameworks/R.framework/Resources/bin/R CMD build --keep-empty-dirs --no-resave-data oppar StartedAt: 2024-10-17 05:55:16 -0400 (Thu, 17 Oct 2024) EndedAt: 2024-10-17 05:56:46 -0400 (Thu, 17 Oct 2024) EllapsedTime: 89.3 seconds RetCode: 0 Status: OK PackageFile: oppar_1.32.0.tar.gz PackageFileSize: 3.399 MiB