Package: oposSOM Version: 2.22.0 Command: E:\biocbuild\bbs-3.19-bioc\R\bin\R.exe CMD check --no-multiarch --install=check:oposSOM.install-out.txt --library=E:\biocbuild\bbs-3.19-bioc\R\library --no-vignettes --timings oposSOM_2.22.0.tar.gz StartedAt: 2024-10-17 04:09:25 -0400 (Thu, 17 Oct 2024) EndedAt: 2024-10-17 04:14:00 -0400 (Thu, 17 Oct 2024) EllapsedTime: 275.5 seconds RetCode: 0 Status: WARNINGS CheckDir: oposSOM.Rcheck Warnings: 2