Package: oposSOM Version: 2.22.0 Command: chmod a+r oposSOM -R && E:\biocbuild\bbs-3.19-bioc\R\bin\R.exe CMD build --keep-empty-dirs --no-resave-data oposSOM StartedAt: 2024-10-16 20:49:24 -0400 (Wed, 16 Oct 2024) EndedAt: 2024-10-16 20:50:25 -0400 (Wed, 16 Oct 2024) EllapsedTime: 60.6 seconds RetCode: 0 Status: OK PackageFile: oposSOM_2.22.0.tar.gz PackageFileSize: 13.02 MiB