Package: oposSOM Version: 2.22.0 Command: rm -rf oposSOM.buildbin-libdir && mkdir oposSOM.buildbin-libdir && F:\biocbuild\bbs-3.19-bioc\R\bin\R.exe CMD INSTALL --build --library=oposSOM.buildbin-libdir oposSOM_2.22.0.tar.gz StartedAt: 2024-06-27 08:37:45 -0400 (Thu, 27 Jun 2024) EndedAt: 2024-06-27 08:39:02 -0400 (Thu, 27 Jun 2024) EllapsedTime: 77.6 seconds RetCode: 0 Status: OK PackageFile: oposSOM_2.22.0.zip PackageFileSize: 13.54 MiB