Package: oposSOM Version: 2.22.0 Command: /home/biocbuild/R/R-beta-2024-04-15_r86425/bin/R CMD build --keep-empty-dirs --no-resave-data oposSOM StartedAt: 2024-05-09 02:16:13 -0000 (Thu, 09 May 2024) EndedAt: 2024-05-09 02:17:35 -0000 (Thu, 09 May 2024) EllapsedTime: 82.1 seconds RetCode: 0 Status: OK PackageFile: oposSOM_2.22.0.tar.gz PackageFileSize: 13.14 MiB