Package: oposSOM Version: 2.22.0 Command: /Library/Frameworks/R.framework/Resources/bin/R CMD build --keep-empty-dirs --no-resave-data oposSOM StartedAt: 2024-06-10 02:00:23 -0400 (Mon, 10 Jun 2024) EndedAt: 2024-06-10 02:01:41 -0400 (Mon, 10 Jun 2024) EllapsedTime: 78.4 seconds RetCode: 0 Status: OK PackageFile: oposSOM_2.22.0.tar.gz PackageFileSize: 13.15 MiB