Package: oposSOM Version: 2.22.0 Command: /Library/Frameworks/R.framework/Resources/bin/R CMD INSTALL oposSOM StartedAt: 2024-10-16 16:59:44 -0400 (Wed, 16 Oct 2024) EndedAt: 2024-10-16 17:00:25 -0400 (Wed, 16 Oct 2024) EllapsedTime: 40.8 seconds RetCode: 0 Status: OK